BEGIN:VCALENDAR
VERSION:2.0
PRODID:-//International OCD Foundation - ECPv6.15.17//NONSGML v1.0//EN
CALSCALE:GREGORIAN
METHOD:PUBLISH
X-ORIGINAL-URL:https://iocdf.org
X-WR-CALDESC:Events for International OCD Foundation
REFRESH-INTERVAL;VALUE=DURATION:PT1H
X-Robots-Tag:noindex
X-PUBLISHED-TTL:PT1H
BEGIN:VTIMEZONE
TZID:Europe/Berlin
BEGIN:DAYLIGHT
TZOFFSETFROM:+0100
TZOFFSETTO:+0200
TZNAME:CEST
DTSTART:20240331T010000
END:DAYLIGHT
BEGIN:STANDARD
TZOFFSETFROM:+0200
TZOFFSETTO:+0100
TZNAME:CET
DTSTART:20241027T010000
END:STANDARD
BEGIN:DAYLIGHT
TZOFFSETFROM:+0100
TZOFFSETTO:+0200
TZNAME:CEST
DTSTART:20250330T010000
END:DAYLIGHT
BEGIN:STANDARD
TZOFFSETFROM:+0200
TZOFFSETTO:+0100
TZNAME:CET
DTSTART:20251026T010000
END:STANDARD
BEGIN:DAYLIGHT
TZOFFSETFROM:+0100
TZOFFSETTO:+0200
TZNAME:CEST
DTSTART:20260329T010000
END:DAYLIGHT
BEGIN:STANDARD
TZOFFSETFROM:+0200
TZOFFSETTO:+0100
TZNAME:CET
DTSTART:20261025T010000
END:STANDARD
END:VTIMEZONE
BEGIN:VTIMEZONE
TZID:America/New_York
BEGIN:DAYLIGHT
TZOFFSETFROM:-0500
TZOFFSETTO:-0400
TZNAME:EDT
DTSTART:20240310T070000
END:DAYLIGHT
BEGIN:STANDARD
TZOFFSETFROM:-0400
TZOFFSETTO:-0500
TZNAME:EST
DTSTART:20241103T060000
END:STANDARD
BEGIN:DAYLIGHT
TZOFFSETFROM:-0500
TZOFFSETTO:-0400
TZNAME:EDT
DTSTART:20250309T070000
END:DAYLIGHT
BEGIN:STANDARD
TZOFFSETFROM:-0400
TZOFFSETTO:-0500
TZNAME:EST
DTSTART:20251102T060000
END:STANDARD
BEGIN:DAYLIGHT
TZOFFSETFROM:-0500
TZOFFSETTO:-0400
TZNAME:EDT
DTSTART:20260308T070000
END:DAYLIGHT
BEGIN:STANDARD
TZOFFSETFROM:-0400
TZOFFSETTO:-0500
TZNAME:EST
DTSTART:20261101T060000
END:STANDARD
END:VTIMEZONE
BEGIN:VTIMEZONE
TZID:America/Los_Angeles
BEGIN:DAYLIGHT
TZOFFSETFROM:-0800
TZOFFSETTO:-0700
TZNAME:PDT
DTSTART:20240310T100000
END:DAYLIGHT
BEGIN:STANDARD
TZOFFSETFROM:-0700
TZOFFSETTO:-0800
TZNAME:PST
DTSTART:20241103T090000
END:STANDARD
BEGIN:DAYLIGHT
TZOFFSETFROM:-0800
TZOFFSETTO:-0700
TZNAME:PDT
DTSTART:20250309T100000
END:DAYLIGHT
BEGIN:STANDARD
TZOFFSETFROM:-0700
TZOFFSETTO:-0800
TZNAME:PST
DTSTART:20251102T090000
END:STANDARD
BEGIN:DAYLIGHT
TZOFFSETFROM:-0800
TZOFFSETTO:-0700
TZNAME:PDT
DTSTART:20260308T100000
END:DAYLIGHT
BEGIN:STANDARD
TZOFFSETFROM:-0700
TZOFFSETTO:-0800
TZNAME:PST
DTSTART:20261101T090000
END:STANDARD
END:VTIMEZONE
BEGIN:VTIMEZONE
TZID:America/North_Dakota/Center
BEGIN:DAYLIGHT
TZOFFSETFROM:-0600
TZOFFSETTO:-0500
TZNAME:CDT
DTSTART:20240310T080000
END:DAYLIGHT
BEGIN:STANDARD
TZOFFSETFROM:-0500
TZOFFSETTO:-0600
TZNAME:CST
DTSTART:20241103T070000
END:STANDARD
BEGIN:DAYLIGHT
TZOFFSETFROM:-0600
TZOFFSETTO:-0500
TZNAME:CDT
DTSTART:20250309T080000
END:DAYLIGHT
BEGIN:STANDARD
TZOFFSETFROM:-0500
TZOFFSETTO:-0600
TZNAME:CST
DTSTART:20251102T070000
END:STANDARD
BEGIN:DAYLIGHT
TZOFFSETFROM:-0600
TZOFFSETTO:-0500
TZNAME:CDT
DTSTART:20260308T080000
END:DAYLIGHT
BEGIN:STANDARD
TZOFFSETFROM:-0500
TZOFFSETTO:-0600
TZNAME:CST
DTSTART:20261101T070000
END:STANDARD
END:VTIMEZONE
BEGIN:VEVENT
DTSTART;TZID=Europe/Berlin:20250913T143000
DTEND;TZID=Europe/Berlin:20250913T190000
DTSTAMP:20260420T113819
CREATED:20250731T003259Z
LAST-MODIFIED:20250731T003259Z
UID:10002097-1757773800-1757790000@iocdf.org
SUMMARY:Berlin OCD Walk
DESCRIPTION:The OCD Walk is a community engagement event that allows individuals across the country to connect\, share stories\, create impact\, and show those struggling on their road to recovery that they are not alone. The OCD Walk is an opportunity to raise funds and awareness of what it really means to have OCD. \n  \n\nSaturday\, September 13\, 2025 • 15:30–19:00\n\n\n\nMeeting point / Treffpunkt: Pariser Platz 8\, 10117 Berlin
URL:https://iocdf.org/event/berlin-ocd-walk/
LOCATION:Pariser Platz 8\, 10117 Berlin\, Pariser Platz 8\, Berlin\, 10117\, Germany
CATEGORIES:Affiliate-hosted,IOCDF-hosted,One Million Steps for OCD Walk
ATTACH;FMTTYPE=image/png:https://iocdf.org/wp-content/uploads/2025/07/General-OCD-Walk-FB-Headers-1920-x-1005-px.png
ORGANIZER;CN="International OCD Foundation":MAILTO:info@iocdf.org
GEO:52.5164947;13.3779114
X-APPLE-STRUCTURED-LOCATION;VALUE=URI;X-ADDRESS=Pariser Platz 8 10117 Berlin Pariser Platz 8 Berlin 10117 Germany;X-APPLE-RADIUS=500;X-TITLE=Pariser Platz 8:geo:13.3779114,52.5164947
END:VEVENT
BEGIN:VEVENT
DTSTART;TZID=America/New_York:20250920T090000
DTEND;TZID=America/New_York:20250920T130000
DTSTAMP:20260420T113819
CREATED:20250731T003823Z
LAST-MODIFIED:20250926T161652Z
UID:10002099-1758358800-1758373200@iocdf.org
SUMMARY:Wilmington\, DE OCD Walk
DESCRIPTION:The OCD Walk is a community engagement event that allows individuals across the country to connect\, share stories\, create impact\, and show those struggling on their road to recovery that they are not alone. The OCD Walk is an opportunity to raise funds and awareness of what it really means to have OCD. \n 
URL:https://iocdf.org/event/wilmington-ocd-walk-2/
LOCATION:New Castle Battery Park\, 1 Delaware St\, New Castle\, DE\, United States
CATEGORIES:Affiliate-hosted,IOCDF-hosted,One Million Steps for OCD Walk
ATTACH;FMTTYPE=image/png:https://iocdf.org/wp-content/uploads/2025/07/General-OCD-Walk-FB-Headers-1920-x-1005-px.png
GEO:39.6577146;-75.5615486
X-APPLE-STRUCTURED-LOCATION;VALUE=URI;X-ADDRESS=New Castle Battery Park 1 Delaware St New Castle DE United States;X-APPLE-RADIUS=500;X-TITLE=1 Delaware St:geo:-75.5615486,39.6577146
END:VEVENT
BEGIN:VEVENT
DTSTART;TZID=America/Los_Angeles:20250927T084500
DTEND;TZID=America/Los_Angeles:20250927T120000
DTSTAMP:20260420T113819
CREATED:20250731T005233Z
LAST-MODIFIED:20250731T005233Z
UID:10002102-1758962700-1758974400@iocdf.org
SUMMARY:Sacramento OCD Walk
DESCRIPTION:The OCD Walk is a community engagement event that allows individuals across the country to connect\, share stories\, create impact\, and show those struggling on their road to recovery that they are not alone. The OCD Walk is an opportunity to raise funds and awareness of what it really means to have OCD. \n 
URL:https://iocdf.org/event/sacramento-ocd-walk-2/
LOCATION:Southside Park\, 6th Street\, Sacramento\, CA\, 95818\, United States
CATEGORIES:Affiliate-hosted,IOCDF-hosted,One Million Steps for OCD Walk
ATTACH;FMTTYPE=image/png:https://iocdf.org/wp-content/uploads/2025/07/General-OCD-Walk-FB-Headers-1920-x-1005-px.png
ORGANIZER;CN="OCD Sacramento":MAILTO:drrobin@atcsac.net
GEO:38.5694052;-121.5036188
X-APPLE-STRUCTURED-LOCATION;VALUE=URI;X-ADDRESS=Southside Park 6th Street Sacramento CA 95818 United States;X-APPLE-RADIUS=500;X-TITLE=6th Street:geo:-121.5036188,38.5694052
END:VEVENT
BEGIN:VEVENT
DTSTART;TZID=America/New_York:20250927T093000
DTEND;TZID=America/New_York:20250927T140000
DTSTAMP:20260420T113819
CREATED:20250731T004134Z
LAST-MODIFIED:20250926T190448Z
UID:10002100-1758965400-1758981600@iocdf.org
SUMMARY:Columbus OCD Walk
DESCRIPTION:The OCD Walk is a community engagement event that allows individuals across the country to connect\, share stories\, create impact\, and show those struggling on their road to recovery that they are not alone. The OCD Walk is an opportunity to raise funds and awareness of what it really means to have OCD. \n 
URL:https://iocdf.org/event/columbus-ocd-walk-2/
LOCATION:Sharon Woods Metro Park\, 6911 Cleveland Avenue\, Westerville\, OH\, 43081\, United States
CATEGORIES:Affiliate-hosted,IOCDF-hosted,One Million Steps for OCD Walk
ATTACH;FMTTYPE=image/png:https://iocdf.org/wp-content/uploads/2025/07/General-OCD-Walk-FB-Headers-1920-x-1005-px.png
ORGANIZER;CN="OCD Midwest":MAILTO:ocd-midwest@iocdf.org
GEO:40.111036;-82.9561815
X-APPLE-STRUCTURED-LOCATION;VALUE=URI;X-ADDRESS=Sharon Woods Metro Park 6911 Cleveland Avenue Westerville OH 43081 United States;X-APPLE-RADIUS=500;X-TITLE=6911 Cleveland Avenue:geo:-82.9561815,40.111036
END:VEVENT
BEGIN:VEVENT
DTSTART;TZID=Europe/Berlin:20250927T120000
DTEND;TZID=Europe/Berlin:20250927T160000
DTSTAMP:20260420T113819
CREATED:20250731T004949Z
LAST-MODIFIED:20250731T004949Z
UID:10002101-1758974400-1758988800@iocdf.org
SUMMARY:Ann Arbor OCD Walk
DESCRIPTION:The OCD Walk is a community engagement event that allows individuals across the country to connect\, share stories\, create impact\, and show those struggling on their road to recovery that they are not alone. The OCD Walk is an opportunity to raise funds and awareness of what it really means to have OCD. \n 
URL:https://iocdf.org/event/ann-arbor-ocd-walk/
LOCATION:Country Farm Park\, 2230 Platt Rd\, Ann Arbor\,\, MI\, United States
CATEGORIES:Affiliate-hosted,IOCDF-hosted,One Million Steps for OCD Walk
ATTACH;FMTTYPE=image/png:https://iocdf.org/wp-content/uploads/2025/07/General-OCD-Walk-FB-Headers-1920-x-1005-px.png
ORGANIZER;CN="OCD Midwest":MAILTO:ocd-midwest@iocdf.org
GEO:42.2561045;-83.7030902
X-APPLE-STRUCTURED-LOCATION;VALUE=URI;X-ADDRESS=Country Farm Park 2230 Platt Rd Ann Arbor MI United States;X-APPLE-RADIUS=500;X-TITLE=2230 Platt Rd:geo:-83.7030902,42.2561045
END:VEVENT
BEGIN:VEVENT
DTSTART;TZID=America/North_Dakota/Center:20250928T134500
DTEND;TZID=America/North_Dakota/Center:20250928T160000
DTSTAMP:20260420T113819
CREATED:20250731T005824Z
LAST-MODIFIED:20250731T010459Z
UID:10002103-1759067100-1759075200@iocdf.org
SUMMARY:Lincoln OCD Walk
DESCRIPTION:The OCD Walk is a community engagement event that allows individuals across the country to connect\, share stories\, create impact\, and show those struggling on their road to recovery that they are not alone. The OCD Walk is an opportunity to raise funds and awareness of what it really means to have OCD. \n 
URL:https://iocdf.org/event/lincoln-ocd-walk/
LOCATION:Holmes Lake Park\, Holmes North Shore Rd #3\, Lincoln\, NE\, 68506\, United States
CATEGORIES:Affiliate-hosted,IOCDF-hosted,One Million Steps for OCD Walk
ATTACH;FMTTYPE=image/png:https://iocdf.org/wp-content/uploads/2025/07/General-OCD-Walk-FB-Headers-1920-x-1005-px.png
GEO:40.7811928;-96.6287007
X-APPLE-STRUCTURED-LOCATION;VALUE=URI;X-ADDRESS=Holmes Lake Park Holmes North Shore Rd #3 Lincoln NE 68506 United States;X-APPLE-RADIUS=500;X-TITLE=Holmes North Shore Rd #3:geo:-96.6287007,40.7811928
END:VEVENT
END:VCALENDAR