BEGIN:VCALENDAR
VERSION:2.0
PRODID:-//International OCD Foundation - ECPv6.15.17//NONSGML v1.0//EN
CALSCALE:GREGORIAN
METHOD:PUBLISH
X-WR-CALNAME:International OCD Foundation
X-ORIGINAL-URL:https://iocdf.org
X-WR-CALDESC:Events for International OCD Foundation
REFRESH-INTERVAL;VALUE=DURATION:PT1H
X-Robots-Tag:noindex
X-PUBLISHED-TTL:PT1H
BEGIN:VTIMEZONE
TZID:America/Indiana/Indianapolis
BEGIN:DAYLIGHT
TZOFFSETFROM:-0500
TZOFFSETTO:-0400
TZNAME:EDT
DTSTART:20240310T070000
END:DAYLIGHT
BEGIN:STANDARD
TZOFFSETFROM:-0400
TZOFFSETTO:-0500
TZNAME:EST
DTSTART:20241103T060000
END:STANDARD
BEGIN:DAYLIGHT
TZOFFSETFROM:-0500
TZOFFSETTO:-0400
TZNAME:EDT
DTSTART:20250309T070000
END:DAYLIGHT
BEGIN:STANDARD
TZOFFSETFROM:-0400
TZOFFSETTO:-0500
TZNAME:EST
DTSTART:20251102T060000
END:STANDARD
BEGIN:DAYLIGHT
TZOFFSETFROM:-0500
TZOFFSETTO:-0400
TZNAME:EDT
DTSTART:20260308T070000
END:DAYLIGHT
BEGIN:STANDARD
TZOFFSETFROM:-0400
TZOFFSETTO:-0500
TZNAME:EST
DTSTART:20261101T060000
END:STANDARD
END:VTIMEZONE
BEGIN:VTIMEZONE
TZID:America/New_York
BEGIN:DAYLIGHT
TZOFFSETFROM:-0500
TZOFFSETTO:-0400
TZNAME:EDT
DTSTART:20240310T070000
END:DAYLIGHT
BEGIN:STANDARD
TZOFFSETFROM:-0400
TZOFFSETTO:-0500
TZNAME:EST
DTSTART:20241103T060000
END:STANDARD
BEGIN:DAYLIGHT
TZOFFSETFROM:-0500
TZOFFSETTO:-0400
TZNAME:EDT
DTSTART:20250309T070000
END:DAYLIGHT
BEGIN:STANDARD
TZOFFSETFROM:-0400
TZOFFSETTO:-0500
TZNAME:EST
DTSTART:20251102T060000
END:STANDARD
BEGIN:DAYLIGHT
TZOFFSETFROM:-0500
TZOFFSETTO:-0400
TZNAME:EDT
DTSTART:20260308T070000
END:DAYLIGHT
BEGIN:STANDARD
TZOFFSETFROM:-0400
TZOFFSETTO:-0500
TZNAME:EST
DTSTART:20261101T060000
END:STANDARD
END:VTIMEZONE
BEGIN:VEVENT
DTSTART;TZID=America/Indiana/Indianapolis:20251004T100000
DTEND;TZID=America/Indiana/Indianapolis:20251004T140000
DTSTAMP:20260424T111503
CREATED:20250827T164303Z
LAST-MODIFIED:20250827T164303Z
UID:10002118-1759572000-1759586400@iocdf.org
SUMMARY:Indianapolis OCD Walk
DESCRIPTION:The Indianapolis OCD Walk is a community engagement event that allows individuals to connect\, share stories\, create impact\, and show those struggling on their road to recovery that they are not alone. It’s a chance for us to raise funds and awareness of what it really means to have OCD.
URL:https://iocdf.org/event/indianapolis-ocd-walk/
LOCATION:Heritage Trail Park\, 4050 S 875 E\, Zionsville\, IN 46077
CATEGORIES:IOCDF-hosted,One Million Steps for OCD Walk
ORGANIZER;CN="OCD Midwest":MAILTO:ocd-midwest@iocdf.org
END:VEVENT
BEGIN:VEVENT
DTSTART;TZID=America/New_York:20251006T080000
DTEND;TZID=America/New_York:20251019T170000
DTSTAMP:20260424T111503
CREATED:20251007T183928Z
LAST-MODIFIED:20251007T185622Z
UID:10002271-1759737600-1760893200@iocdf.org
SUMMARY:Light It Up for OCD Awareness Week
DESCRIPTION:Each year during OCD Awareness Week\, buildings\, bridges\, and structures around the world light up teal for OCD Awareness Week. This lighting campaign helps to bring increased recognition to the realities of OCD and each shining monument serves as a beacon of hope to those impacted and their families and support systems. \nThe majority of lightings will take place on or around OCD Awareness Week\, October 12-18\, 2025. Visit https://iocdf.org/programs/ocdweek/ocdawlightings/ for a full list of lighting locations and dates.
URL:https://iocdf.org/event/light-it-up-for-ocd-awareness-week/
CATEGORIES:Affiliate-hosted,IOCDF-hosted,OCD Awareness Week,Partner Event
ORGANIZER;CN="International OCD Foundation":MAILTO:info@iocdf.org
END:VEVENT
BEGIN:VEVENT
DTSTART;TZID=America/New_York:20251015T190000
DTEND;TZID=America/New_York:20251015T200000
DTSTAMP:20260424T111503
CREATED:20250916T132636Z
LAST-MODIFIED:20250916T140438Z
UID:10002173-1760554800-1760558400@iocdf.org
SUMMARY:Public Policy Tutorial and Phone Zap
DESCRIPTION:Turn your passion into action. Join our Public Policy Tutorial and Phone Zap to advocate for the OCD community. This event is easy\, fun\, and empowering for advocates of all levels. \nWe will begin with a guided training on how to use our Public Policy Action Center to contact elected officials. You will learn to effectively communicate the need for better OCD treatment access\, affordable care\, and support for the mental health workforce. \nRight after the tutorial\, we will use our new skills in a live Phone Zap. This is a group calling event designed to be supportive and low pressure You will gain the confidence and knowledge to be a powerful voice for change. \nThe event will be held on Zoom on October 15\, 2025 at 7:00 PM ET. \nPlease RSVP at the link to join us: https://iocdf-org.zoom.us/meeting/register/I0AfAKvoQ_GhVScRa4zK6w
URL:https://iocdf.org/event/public-policy-tutorial-and-phone-zap/
CATEGORIES:IOCDF-hosted,OCD Awareness Week,Virtual Event
ATTACH;FMTTYPE=image/png:https://iocdf.org/wp-content/uploads/2025/09/policyaction.png
ORGANIZER;CN="International OCD Foundation":MAILTO:info@iocdf.org
LOCATION:
END:VEVENT
BEGIN:VEVENT
DTSTART;TZID=America/New_York:20251016T120000
DTEND;TZID=America/New_York:20251016T130000
DTSTAMP:20260424T111503
CREATED:20250915T171041Z
LAST-MODIFIED:20250915T171041Z
UID:10002171-1760616000-1760619600@iocdf.org
SUMMARY:Conference Ready! Early Career and Student Workshop presented by IOCDF and ADAA
DESCRIPTION:Conference Ready! Early Career and Student Workshop presented by IOCDF and ADAA\nOctober 16th at noon EST (60 minutes)\nEarly-career researcher or student preparing for a conference presentation? This workshop will walk you through the process of submitting a poster abstract\, designing an effective poster\, and getting valuable feedback on your work if you’re presenting soon. It’s a supportive space to connect with peers\, practice\, and hear practical tips and direct feedback from experts. You’ll leave with fresh ideas to make your submission shine and a clearer sense of what to expect when presenting. Join Sanjaya Saxena\, MD\, IOCDF Director of Clinical and Research Affairs\, Stephanie Grimaldi\, PhD\, and Amanda Belanger\, M.S. \n\nRegistration is required—don’t miss this opportunity to learn\, share\, and build your confidence! Register here
URL:https://iocdf.org/event/conference-ready-early-career-and-student-workshop-presented-by-iocdf-and-adaa/
LOCATION:Zoom
CATEGORIES:IOCDF-hosted,Livestream,OCD Awareness Week,Partner Event,Virtual Event
ATTACH;FMTTYPE=image/jpeg:https://iocdf.org/wp-content/uploads/2025/09/Oct-16-2025-ADAA-Early-Career-Workshop-1.jpg
ORGANIZER;CN="International OCD Foundation":MAILTO:info@iocdf.org
END:VEVENT
BEGIN:VEVENT
DTSTART;TZID=America/New_York:20251016T180000
DTEND;TZID=America/New_York:20251016T200000
DTSTAMP:20260424T111503
CREATED:20251002T201431Z
LAST-MODIFIED:20251002T201450Z
UID:10002261-1760637600-1760644800@iocdf.org
SUMMARY:Meet the Author & Panel Discussion Featuring How to Hide in Plain Sight\, a novel exploring love\, family and OCD
DESCRIPTION:In celebration of OCD awareness week\, join OCDCSFL and the IOCDF Young Adult Special Interest Group for a special Meet the Author and panel discussion featuring How to Hide in Plain Sight-a moving novel that explores love\, family\, and OCD. We’re thrilled to welcome the author herself\, Emma Noyes\, for this engaging conversation.
URL:https://iocdf.org/event/meet-the-author-panel-discussion-featuring-how-to-hide-in-plain-sight-a-novel-exploring-love-family-and-ocd-3/
CATEGORIES:Affiliate-hosted,IOCDF-hosted,OCD Awareness Week,Partner Event,Virtual Event
ATTACH;FMTTYPE=image/png:https://iocdf.org/wp-content/uploads/2025/10/Screenshot-2025-10-01-at-9.04.15-PM-2.png
ORGANIZER;CN="OCD Central &amp%3B South Florida":MAILTO:info@ocdcsfl.org
END:VEVENT
BEGIN:VEVENT
DTSTART;VALUE=DATE:20251023
DTEND;VALUE=DATE:20251026
DTSTAMP:20260424T111503
CREATED:20250616T152309Z
LAST-MODIFIED:20250616T152309Z
UID:10002086-1761177600-1761436799@iocdf.org
SUMMARY:IOCDF Advanced Forum on Pediatric OCD
DESCRIPTION:The Advanced Forum is a three-day event organized by the IOCDF to enhance the clinical skills of mental health professionals who have attended a Behavior Therapy Training Institute (BTTI) or a similar level of training. Attendees should feel comfortable diagnosing and assessing OCD and providing evidence-based treatment\, including exposure and response prevention (ERP). \n\n\n\n\n\n\nRegistration is now open!\n\n\n\n\n\nWhile BTTIs are kept small to enhance learning and promote a comfortable environment to learn a new treatment modality\, the revamped Advanced Forum is significantly larger (expected attendance 200)\, providing an opportunity to connect with other professionals treating OCD and the leaders in the field. \n\n\n\n\n\n\nAlong with lectures\, Advanced Forums include Q&A panels\, case presentations and live consultation from experts on select cases submitted by attendees. \nEach Advanced Forum focus on a specific topic of interest\, to deepen the practice of clinicians who are comfortable treating OCD and related disorders. \n\n\n\n\n\n\nExamples from previous years’ topics include: \n\nTreatment engagement\, ambivalence\, and resistance in OCD (Boston\, MA\, 2015)\nWorking with OCD-related disorders and co-occurring conditions (Boston\, MA\, 2017)\nPromoting Treatment Engagement in OCD-Related Disorders (Belmont\, MA\, 2018)\nFlexibility Within Fidelity: Adapting Evidence-Based OCD Treatments to Client Factors (Toronto\, Canada\, 2024)\n2025 Advanced Forum on Pediatric OCD (Long Beach\, CA\, October 23–25\, 2025) – Register Today
URL:https://iocdf.org/event/iocdf-advanced-forum-on-pediatric-ocd/
LOCATION:The Westin Long Beach\, CA\, 333 E Ocean Blvd\, Long Beach\, CA\, 90802\, United States
CATEGORIES:IOCDF-hosted,Professional Training
ORGANIZER;CN="International OCD Foundation":MAILTO:info@iocdf.org
GEO:33.7672304;-118.188251
X-APPLE-STRUCTURED-LOCATION;VALUE=URI;X-ADDRESS=The Westin Long Beach CA 333 E Ocean Blvd Long Beach CA 90802 United States;X-APPLE-RADIUS=500;X-TITLE=333 E Ocean Blvd:geo:-118.188251,33.7672304
END:VEVENT
END:VCALENDAR