BEGIN:VCALENDAR
VERSION:2.0
PRODID:-//International OCD Foundation - ECPv6.15.17//NONSGML v1.0//EN
CALSCALE:GREGORIAN
METHOD:PUBLISH
X-ORIGINAL-URL:https://iocdf.org
X-WR-CALDESC:Events for International OCD Foundation
REFRESH-INTERVAL;VALUE=DURATION:PT1H
X-Robots-Tag:noindex
X-PUBLISHED-TTL:PT1H
BEGIN:VTIMEZONE
TZID:America/New_York
BEGIN:DAYLIGHT
TZOFFSETFROM:-0500
TZOFFSETTO:-0400
TZNAME:EDT
DTSTART:20250309T070000
END:DAYLIGHT
BEGIN:STANDARD
TZOFFSETFROM:-0400
TZOFFSETTO:-0500
TZNAME:EST
DTSTART:20251102T060000
END:STANDARD
BEGIN:DAYLIGHT
TZOFFSETFROM:-0500
TZOFFSETTO:-0400
TZNAME:EDT
DTSTART:20260308T070000
END:DAYLIGHT
BEGIN:STANDARD
TZOFFSETFROM:-0400
TZOFFSETTO:-0500
TZNAME:EST
DTSTART:20261101T060000
END:STANDARD
BEGIN:DAYLIGHT
TZOFFSETFROM:-0500
TZOFFSETTO:-0400
TZNAME:EDT
DTSTART:20270314T070000
END:DAYLIGHT
BEGIN:STANDARD
TZOFFSETFROM:-0400
TZOFFSETTO:-0500
TZNAME:EST
DTSTART:20271107T060000
END:STANDARD
END:VTIMEZONE
BEGIN:VTIMEZONE
TZID:America/Los_Angeles
BEGIN:DAYLIGHT
TZOFFSETFROM:-0800
TZOFFSETTO:-0700
TZNAME:PDT
DTSTART:20250309T100000
END:DAYLIGHT
BEGIN:STANDARD
TZOFFSETFROM:-0700
TZOFFSETTO:-0800
TZNAME:PST
DTSTART:20251102T090000
END:STANDARD
BEGIN:DAYLIGHT
TZOFFSETFROM:-0800
TZOFFSETTO:-0700
TZNAME:PDT
DTSTART:20260308T100000
END:DAYLIGHT
BEGIN:STANDARD
TZOFFSETFROM:-0700
TZOFFSETTO:-0800
TZNAME:PST
DTSTART:20261101T090000
END:STANDARD
BEGIN:DAYLIGHT
TZOFFSETFROM:-0800
TZOFFSETTO:-0700
TZNAME:PDT
DTSTART:20270314T100000
END:DAYLIGHT
BEGIN:STANDARD
TZOFFSETFROM:-0700
TZOFFSETTO:-0800
TZNAME:PST
DTSTART:20271107T090000
END:STANDARD
END:VTIMEZONE
BEGIN:VEVENT
DTSTART;TZID=America/New_York:20260105T080000
DTEND;TZID=America/New_York:20260202T170000
DTSTAMP:20260421T175558
CREATED:20251229T182251Z
LAST-MODIFIED:20251229T182251Z
UID:10002303-1767600000-1770051600@iocdf.org
SUMMARY:Cognitive Behavioral Therapy for OCD in Children and Adolescents (MGH Online Course - January 2026)
DESCRIPTION:Registration Deadline: January 19\, 2026 \nThis interactive course offers an overview of cognitive behavioral therapy (CBT) for children and adolescents with obsessive-compulsive disorder (OCD). It is led by CBT experts Aude Henin\, PhD\, and Dina Hirshfeld-Becker\, PhD. \nThe course reviews diagnostic criteria for OCD\, the impact of common comorbidities\, the differentiation of OCD from other psychiatric disorders of childhood\, strategies to combat treatment non-adherence\, and much more. The course also focuses on evidence-based CBT interventions such as psychoeducation\, cognitive strategies\, and exposure and response prevention (E/RP).
URL:https://iocdf.org/event/cognitive-behavioral-therapy-for-ocd-in-children-and-adolescents-mgh-online-course-january-2026/
LOCATION:CA
CATEGORIES:Professional Training
END:VEVENT
BEGIN:VEVENT
DTSTART;VALUE=DATE:20260131
DTEND;VALUE=DATE:20260202
DTSTAMP:20260421T175558
CREATED:20250923T180016Z
LAST-MODIFIED:20250923T180133Z
UID:10002194-1769817600-1769990399@iocdf.org
SUMMARY:Online OCD Camp for Kids & Teens
DESCRIPTION:The Online OCD Camp is a weekend full of interactive sessions\, educational activities\, and FUN for youth aged 6-17 who have OCD or a sibling with OCD. \nIn addition to programming for elementary\, middle\, and high schoolers\, OCD Camp also offers support for caregivers and families\, including strategies and education about caring for a child with OCD and socialization with families with similar experiences.
URL:https://iocdf.org/event/online-ocd-camp-for-kids-teens/
LOCATION:CA
CATEGORIES:IOCDF-hosted,Youth Programming
ATTACH;FMTTYPE=image/png:https://iocdf.org/wp-content/uploads/2025/09/Camp-Main-Header-Banner-V2.png
ORGANIZER;CN="International OCD Foundation":MAILTO:info@iocdf.org
END:VEVENT
BEGIN:VEVENT
DTSTART;TZID=America/New_York:20260202T080000
DTEND;TZID=America/New_York:20260316T170000
DTSTAMP:20260421T175558
CREATED:20251215T182927Z
LAST-MODIFIED:20260113T172325Z
UID:10002300-1770019200-1773680400@iocdf.org
SUMMARY:Cognitive Behavioral Therapy for Obsessive Compulsive Disorder (MGH Online Course- Feb 2026))
DESCRIPTION:OCD is the fourth most common mental illness. Patients often report high functional impairment and poor quality of life. OCD can be a challenge to properly diagnose. Other conditions present in similar ways\, such as impulse control disorders. In order to help patients find wellness\, it is essential to accurately differentiate OCD.\nThis online course helps you understand and identify clinical features of Obsessive Compulsive Disorder (OCD). It is led by renowned OCD expert and Harvard Medical School Professor Sabine Wilhelm\, PhD. This course focuses on how to use effective assessment and treatment strategies for OCD in your practice.
URL:https://iocdf.org/event/cognitive-behavioral-therapy-for-obsessive-compulsive-disorder-mgh-online-course-feb-2026/
LOCATION:CA
CATEGORIES:Professional Training
END:VEVENT
BEGIN:VEVENT
DTSTART;TZID=America/New_York:20260202T080000
DTEND;TZID=America/New_York:20260316T170000
DTSTAMP:20260421T175558
CREATED:20251215T183007Z
LAST-MODIFIED:20251215T183007Z
UID:10002306-1770019200-1773680400@iocdf.org
SUMMARY:Cognitive Behavioral Therapy for Avoidant/Restrictive Food Intake Disorder: An Online Introduction (February 2026)
DESCRIPTION:Registration Deadline: February 16\, 2026 \nAvoidant/Restrictive Food Intake Disorder (ARFID) was recently added to the Feeding and Eating Disorders section of DSM-5 to describe children\, adolescents\, and adults who do not eat enough food (by variety or volume)\, typically because of sensory sensitivity\, fear of aversive consequences (e.g.\, choking\, vomiting)\, and/or apparent lack of interest in eating or food. Although there is a robust literature on pediatric feeding disorders in very young children\, ARFID itself is so new that there is currently no evidence-based treatment for older children\, adolescents\, or adults. Thus\, our online course will fill an important gap for our colleagues who are already seeing such patients in clinical practice by providing specialized training in a new form of cognitive-behavioral therapy for ARFID (CBT-AR) that we have developed and refined at Massachusetts General Hospital for patients ages 10 through older adults.
URL:https://iocdf.org/event/cognitive-behavioral-therapy-for-avoidant-restrictive-food-intake-disorder-an-online-introduction-february-2026/
LOCATION:CA
CATEGORIES:Professional Training
END:VEVENT
BEGIN:VEVENT
DTSTART;TZID=America/Los_Angeles:20260214T110000
DTEND;TZID=America/Los_Angeles:20260214T130000
DTSTAMP:20260421T175558
CREATED:20260212T010836Z
LAST-MODIFIED:20260212T010836Z
UID:10002323-1771066800-1771074000@iocdf.org
SUMMARY:Family and Loved One’s Online OCD Support Group!
DESCRIPTION:Chris Trondsen\, LMFT\, a clinician with OCD\, and his mom\, Liz\, are excited to remind you about our February\, virtual\, free Family and Loved Ones OCD Support Group.  \nIt will be held this Saturday\, February 14 for two hours\, from 11 AM – 1 PM PST. If you are interested in joining\, please email info@ocdsocal.org and ask for the Zoom link. \nWe are excited to announce that we are going back to basics and have invited a family to discuss their OCD journey. Dianne and her husband\, Matt Tiberg are parents of a teenage daughter. Their daughter suffers from OCD\, as well as emetophobia (fear of throwing up). Dianne and Matt will discuss what they did as parents when symptoms first appeared\, how they helped their daughter navigate treatment\, and their new role now that their daughter is doing well. \nThey will share with you what they did right and what mistakes they made in an effort to help you navigate supporting a loved one with OCD.  \nThe Tibergs will also address the sudden onset of their daughter’s OCD from a PANS/PANDAS infection.  \nBy attending this support group\, you will feel a sense of hope and recognize you are not alone in this journey. Come and learn from a family that has successfully traveled this road. \nThe first hour will be dedicated to hearing their remarkable recovery journey.  The second hour will be an open Q&A session where anyone can ask questions. You do not want to miss February’s support group! \nWe will see you this Sat\, February14th from 11 AM -1 PM PST! \nThe event is open to loved ones\, family members and spouses of someone with OCD\, as well as people with OCD—or anyone else interested from anywhere\, you do not need to be in Southern California to enjoy this event. If you are interested in joining\, please email info@ocdsocal.org and ask for the Zoom link.
URL:https://iocdf.org/event/family-and-loved-ones-online-ocd-support-group-3/
LOCATION:Zoom
CATEGORIES:Affiliate-hosted,Virtual Event
ATTACH;FMTTYPE=image/png:https://iocdf.org/wp-content/uploads/2026/02/February-Family-Loved-Ones-OCD-Support-Group.png
ORGANIZER;CN="OCD Southern California":MAILTO:info@ocdsocal.org
END:VEVENT
BEGIN:VEVENT
DTSTART;TZID=America/New_York:20260217T190000
DTEND;TZID=America/New_York:20260217T200000
DTSTAMP:20260421T175558
CREATED:20250915T145507Z
LAST-MODIFIED:20250915T145507Z
UID:10002163-1771354800-1771358400@iocdf.org
SUMMARY:OCD North Carolina - Virtual Lecture Series
DESCRIPTION:OCD NC runs a monthly\, free lecture series open to anyone\, designed for individuals with lived experience (not CE eligible). The Fall Series begins September 16\, 2026. Future dates: \n\nSep 16\, 2025 07:00 PM\nOct 21\, 2025 07:00 PM\nNov 18\, 2025 07:00 PM\nDec 16\, 2025 07:00 PM\nJan 20\, 2026 07:00 PM\nFeb 17\, 2026 07:00 PM\nMar 17\, 2026 07:00 PM\nApr 21\, 2026 07:00 PM\nMay 19\, 2026 07:00 PM
URL:https://iocdf.org/event/ocd-north-carolina-virtual-lecture-series/2026-02-17/
LOCATION:CA
CATEGORIES:Affiliate-hosted
ORGANIZER;CN="OCD North Carolina":MAILTO:bobmilan23@gmail.com
END:VEVENT
BEGIN:VEVENT
DTSTART;TZID=America/New_York:20260220T050000
DTEND;TZID=America/New_York:20260220T060000
DTSTAMP:20260421T175558
CREATED:20260219T220603Z
LAST-MODIFIED:20260219T220603Z
UID:10002326-1771563600-1771567200@iocdf.org
SUMMARY:Relationship OCD (ROCD): Understanding Doubt\, Reassurance\, and Connection
DESCRIPTION:Join us for a compassionate conversation with Ran Littman\, clinical psychologist and Relationship OCD specialist. \nWe’ll explore what ROCD really is\, common misconceptions\, and how reassurance seeking can impact relationships. Drawing on CBT\, ERP\, and ACT\, Ran will share clinical insights into how treatment can be adapted to support both recovery and meaningful connection — even when doubt and uncertainty feel overwhelming. \nSign up to receive the zoom link: http://www.stopocd.com/webinar
URL:https://iocdf.org/event/relationship-ocd-rocd-understanding-doubt-reassurance-and-connection/
LOCATION:CA
CATEGORIES:Webinar
ORGANIZER;CN="International OCD Foundation":MAILTO:info@iocdf.org
END:VEVENT
BEGIN:VEVENT
DTSTART;TZID=America/New_York:20260224T160000
DTEND;TZID=America/New_York:20260224T170000
DTSTAMP:20260421T175558
CREATED:20260219T220906Z
LAST-MODIFIED:20260219T220955Z
UID:10002327-1771948800-1771952400@iocdf.org
SUMMARY:Psychological Flexibility: A New Way to Respond to Hair Pulling Urges and Thoughts
DESCRIPTION:In this webinar\, we introduce Acceptance and Commitment Therapy (ACT) and the idea of psychological flexibility — learning how to respond to hair pulling urges and difficult thoughts without getting pulled into automatic patterns. \nWe’ll explore how reconnecting with your values can guide meaningful change\, why trying to control or eliminate pulling urges often backfires\, and how small\, intentional actions can support progress without pressure or perfection. \nThis session offers a compassionate\, practical framework for relating differently to hair pulling and to yourself. \nSign up to receive the zoom link: www.trichstop.com/webinar
URL:https://iocdf.org/event/psychological-flexibility-a-new-way-to-respond-to-hair-pulling-urges-and-thoughts/
LOCATION:CA
CATEGORIES:Webinar
ATTACH;FMTTYPE=image/png:https://iocdf.org/wp-content/uploads/2026/02/Helping-Minds-12-scaled.png
ORGANIZER;CN="International OCD Foundation":MAILTO:info@iocdf.org
END:VEVENT
END:VCALENDAR