BEGIN:VCALENDAR
VERSION:2.0
PRODID:-//International OCD Foundation - ECPv6.15.17//NONSGML v1.0//EN
CALSCALE:GREGORIAN
METHOD:PUBLISH
X-ORIGINAL-URL:https://iocdf.org
X-WR-CALDESC:Events for International OCD Foundation
REFRESH-INTERVAL;VALUE=DURATION:PT1H
X-Robots-Tag:noindex
X-PUBLISHED-TTL:PT1H
BEGIN:VTIMEZONE
TZID:America/New_York
BEGIN:DAYLIGHT
TZOFFSETFROM:-0500
TZOFFSETTO:-0400
TZNAME:EDT
DTSTART:20250309T070000
END:DAYLIGHT
BEGIN:STANDARD
TZOFFSETFROM:-0400
TZOFFSETTO:-0500
TZNAME:EST
DTSTART:20251102T060000
END:STANDARD
BEGIN:DAYLIGHT
TZOFFSETFROM:-0500
TZOFFSETTO:-0400
TZNAME:EDT
DTSTART:20260308T070000
END:DAYLIGHT
BEGIN:STANDARD
TZOFFSETFROM:-0400
TZOFFSETTO:-0500
TZNAME:EST
DTSTART:20261101T060000
END:STANDARD
BEGIN:DAYLIGHT
TZOFFSETFROM:-0500
TZOFFSETTO:-0400
TZNAME:EDT
DTSTART:20270314T070000
END:DAYLIGHT
BEGIN:STANDARD
TZOFFSETFROM:-0400
TZOFFSETTO:-0500
TZNAME:EST
DTSTART:20271107T060000
END:STANDARD
END:VTIMEZONE
BEGIN:VTIMEZONE
TZID:Europe/London
BEGIN:DAYLIGHT
TZOFFSETFROM:+0000
TZOFFSETTO:+0100
TZNAME:BST
DTSTART:20250330T010000
END:DAYLIGHT
BEGIN:STANDARD
TZOFFSETFROM:+0100
TZOFFSETTO:+0000
TZNAME:GMT
DTSTART:20251026T010000
END:STANDARD
BEGIN:DAYLIGHT
TZOFFSETFROM:+0000
TZOFFSETTO:+0100
TZNAME:BST
DTSTART:20260329T010000
END:DAYLIGHT
BEGIN:STANDARD
TZOFFSETFROM:+0100
TZOFFSETTO:+0000
TZNAME:GMT
DTSTART:20261025T010000
END:STANDARD
BEGIN:DAYLIGHT
TZOFFSETFROM:+0000
TZOFFSETTO:+0100
TZNAME:BST
DTSTART:20270328T010000
END:DAYLIGHT
BEGIN:STANDARD
TZOFFSETFROM:+0100
TZOFFSETTO:+0000
TZNAME:GMT
DTSTART:20271031T010000
END:STANDARD
END:VTIMEZONE
BEGIN:VEVENT
DTSTART;TZID=America/New_York:20260504T080000
DTEND;TZID=America/New_York:20260607T170000
DTSTAMP:20260425T162854
CREATED:20251229T182313Z
LAST-MODIFIED:20251229T182313Z
UID:10002304-1777881600-1780851600@iocdf.org
SUMMARY:Cognitive Behavioral Therapy for OCD in Children and Adolescents (MGH Online Course - May 2026)
DESCRIPTION:Registration Deadline: May 18\, 2026 \nThis interactive course offers an overview of cognitive behavioral therapy (CBT) for children and adolescents with obsessive-compulsive disorder (OCD). It is led by CBT experts Aude Henin\, PhD\, and Dina Hirshfeld-Becker\, PhD. \nThe course reviews diagnostic criteria for OCD\, the impact of common comorbidities\, the differentiation of OCD from other psychiatric disorders of childhood\, strategies to combat treatment non-adherence\, and much more. The course also focuses on evidence-based CBT interventions such as psychoeducation\, cognitive strategies\, and exposure and response prevention (E/RP).
URL:https://iocdf.org/event/cognitive-behavioral-therapy-for-ocd-in-children-and-adolescents-mgh-online-course-may-2026/
LOCATION:CA
CATEGORIES:Professional Training
END:VEVENT
BEGIN:VEVENT
DTSTART;TZID=America/New_York:20260601T080000
DTEND;TZID=America/New_York:20260706T170000
DTSTAMP:20260425T162854
CREATED:20251229T182222Z
LAST-MODIFIED:20251229T182222Z
UID:10002301-1780300800-1783357200@iocdf.org
SUMMARY:Cognitive Behavioral Therapy for Obsessive Compulsive Disorder (MGH Online Course)
DESCRIPTION:OCD is the fourth most common mental illness. Patients often report high functional impairment and poor quality of life. OCD can be a challenge to properly diagnose. Other conditions present in similar ways\, such as impulse control disorders. In order to help patients find wellness\, it is essential to accurately differentiate OCD.\nThis online course helps you understand and identify clinical features of Obsessive Compulsive Disorder (OCD). It is led by renowned OCD expert and Harvard Medical School Professor Sabine Wilhelm\, PhD. This course focuses on how to use effective assessment and treatment strategies for OCD in your practice.
URL:https://iocdf.org/event/cognitive-behavioral-therapy-for-obsessive-compulsive-disorder-mgh-online-course/
LOCATION:CA
CATEGORIES:Professional Training
END:VEVENT
BEGIN:VEVENT
DTSTART;TZID=America/New_York:20260601T080000
DTEND;TZID=America/New_York:20260720T170000
DTSTAMP:20260425T162854
CREATED:20251215T182958Z
LAST-MODIFIED:20251215T182958Z
UID:10002307-1780300800-1784566800@iocdf.org
SUMMARY:Cognitive Behavioral Therapy for Avoidant/Restrictive Food Intake Disorder (MGH Online Course - June 2026)
DESCRIPTION:Registration Deadline: June 15\, 2026 \nAvoidant/Restrictive Food Intake Disorder (ARFID) was recently added to the Feeding and Eating Disorders section of DSM-5 to describe children\, adolescents\, and adults who do not eat enough food (by variety or volume)\, typically because of sensory sensitivity\, fear of aversive consequences (e.g.\, choking\, vomiting)\, and/or apparent lack of interest in eating or food. Although there is a robust literature on pediatric feeding disorders in very young children\, ARFID itself is so new that there is currently no evidence-based treatment for older children\, adolescents\, or adults. Thus\, our online course will fill an important gap for our colleagues who are already seeing such patients in clinical practice by providing specialized training in a new form of cognitive-behavioral therapy for ARFID (CBT-AR) that we have developed and refined at Massachusetts General Hospital for patients aged 10 through older adults.
URL:https://iocdf.org/event/cognitive-behavioral-therapy-for-avoidant-restrictive-food-intake-disorder-mgh-online-course-june-2026/
LOCATION:CA
CATEGORIES:Professional Training
END:VEVENT
BEGIN:VEVENT
DTSTART;TZID=America/New_York:20260601T133000
DTEND;TZID=America/New_York:20260601T150000
DTSTAMP:20260425T162854
CREATED:20260318T170536Z
LAST-MODIFIED:20260318T170536Z
UID:10002348-1780320600-1780326000@iocdf.org
SUMMARY:Good Moms Have Scary Thoughts: Postpartum Intrusive Thoughts Circle
DESCRIPTION:If you’ve ever had thoughts like: “What if I drop the baby?” What if I hurt my baby by accident?” “What kind of mom thinks like this?”\nYou are not alone. You are not dangerous. You are not a bad mom. Join Merrisa Little\, MSW\, RSW\, a new mom and founder of OCD North\, for an 8-week group program created in collaboration with Serenity Birth Studio. Inspired by the work\, Good Moms Have Scary Thoughts by Karen Kleinman\, this group offers a safe\, supportive\, and confidential space for new parents experiencing distressing or unwanted thoughts after having a baby. \nTogether\, we’ll help you:\nUnderstand scary thoughts and learn how to see them for what they are (just thoughts)\nReduce guilt and shame many new moms experience (90% of new parents experience intrusive thoughts!)\nConnect with other parents in a supportive\, judgement-free space\nBuild skills to respond to intrusive thoughts with more confidence\nLeave with a personalized plan to continue moving forward
URL:https://iocdf.org/event/good-moms-have-scary-thoughts-postpartum-intrusive-thoughts-circle/2026-06-01/
LOCATION:4 Alliance Blvd Unit 10\, Barrie\, ON.\, 4 Alliance Blvd\, Barrie\, ON\, L4N 5K4\, Canada
CATEGORIES:Affiliate-hosted
ATTACH;FMTTYPE=image/png:https://iocdf.org/wp-content/uploads/2026/03/1.png
ORGANIZER;CN="OCD North":MAILTO:mlittle@ocdnorth.com
END:VEVENT
BEGIN:VEVENT
DTSTART;TZID=Europe/London:20260604T090000
DTEND;TZID=Europe/London:20260605T170000
DTSTAMP:20260425T162854
CREATED:20251029T130056Z
LAST-MODIFIED:20251029T174943Z
UID:10002290-1780563600-1780678800@iocdf.org
SUMMARY:Orchard OCD International Scientific Conference on 4th + 5th June 2026\, London UK.
DESCRIPTION:Join us at the Orchard OCD International Scientific Conference on 4th + 5th June 2026\, London UK.\n\n\n\nWelcome to the Orchard OCD International Scientific Conference! \nOrchard OCD is proud to host the largest international scientific conference in Europe dedicated entirely to Obsessive–Compulsive Disorder (OCD)\, made possible by a competitive Wellcome Trust award. This two-day milestone event will take place on 4–5 June 2026 at 30 Euston Square\, London\, UK\, with a clear mission: to catalyse breakthroughs in new and more effective OCD treatments and to advance early detection. \nWe’re bringing together leading researchers\, clinicians\, people with lived experience (PWLE)\, early-career scientists\, industry leaders and policymakers to set shared priorities and drive actionable solutions for OCD. \nThe programme explores cutting-edge themes – from predictive biomarkers and precision-medicine approaches\, to new molecular targets for more effective medications; from advances in neuromodulation and neurosurgery\, to the power of multimodal data and imaging for earlier detection; from breakthroughs in psychotherapy\, to a clear-eyed look at Large Language Models and what they mean – risks and opportunities – for future OCD research. \nThroughout the event\, all scientific content will be translated into clear\, accessible language for PWLE and their families\, as well as for scientists joining from different disciplines. Guided summaries\, live Q&A and concise take-home explainers will ensure everyone can follow the science and contribute meaningfully. \nBeyond the sessions\, the conference is designed for collaboration. Expect a lot of networking opportunities\, facilitated panel discussions\, and poster interactions with brilliant Early Career Researchers\, which will actively help shape the future research agenda in OCD. \nThis conference is a unique\, patient-centred opportunity aligned with Orchard OCD’s and the Wellcome Trust’s shared vision for transformative and inclusive mental health science. Tickets are limited and demand is expected to be high\, so secure your place now to avoid missing out. \n\n\n  \nHome
URL:https://iocdf.org/event/orchard-ocd-international-scientific-conference-on-4th-5th-june-2026-london-uk/
LOCATION:30 Euston Square\, London\, UK\, 30 Euston Square\, London\, United Kingdom
END:VEVENT
BEGIN:VEVENT
DTSTART;TZID=America/New_York:20260608T133000
DTEND;TZID=America/New_York:20260608T150000
DTSTAMP:20260425T162854
CREATED:20260318T170536Z
LAST-MODIFIED:20260318T170536Z
UID:10002349-1780925400-1780930800@iocdf.org
SUMMARY:Good Moms Have Scary Thoughts: Postpartum Intrusive Thoughts Circle
DESCRIPTION:If you’ve ever had thoughts like: “What if I drop the baby?” What if I hurt my baby by accident?” “What kind of mom thinks like this?”\nYou are not alone. You are not dangerous. You are not a bad mom. Join Merrisa Little\, MSW\, RSW\, a new mom and founder of OCD North\, for an 8-week group program created in collaboration with Serenity Birth Studio. Inspired by the work\, Good Moms Have Scary Thoughts by Karen Kleinman\, this group offers a safe\, supportive\, and confidential space for new parents experiencing distressing or unwanted thoughts after having a baby. \nTogether\, we’ll help you:\nUnderstand scary thoughts and learn how to see them for what they are (just thoughts)\nReduce guilt and shame many new moms experience (90% of new parents experience intrusive thoughts!)\nConnect with other parents in a supportive\, judgement-free space\nBuild skills to respond to intrusive thoughts with more confidence\nLeave with a personalized plan to continue moving forward
URL:https://iocdf.org/event/good-moms-have-scary-thoughts-postpartum-intrusive-thoughts-circle/2026-06-08/
LOCATION:4 Alliance Blvd Unit 10\, Barrie\, ON.\, 4 Alliance Blvd\, Barrie\, ON\, L4N 5K4\, Canada
CATEGORIES:Affiliate-hosted
ATTACH;FMTTYPE=image/png:https://iocdf.org/wp-content/uploads/2026/03/1.png
ORGANIZER;CN="OCD North":MAILTO:mlittle@ocdnorth.com
END:VEVENT
BEGIN:VEVENT
DTSTART;TZID=America/New_York:20260615T133000
DTEND;TZID=America/New_York:20260615T150000
DTSTAMP:20260425T162854
CREATED:20260318T170536Z
LAST-MODIFIED:20260318T170536Z
UID:10002350-1781530200-1781535600@iocdf.org
SUMMARY:Good Moms Have Scary Thoughts: Postpartum Intrusive Thoughts Circle
DESCRIPTION:If you’ve ever had thoughts like: “What if I drop the baby?” What if I hurt my baby by accident?” “What kind of mom thinks like this?”\nYou are not alone. You are not dangerous. You are not a bad mom. Join Merrisa Little\, MSW\, RSW\, a new mom and founder of OCD North\, for an 8-week group program created in collaboration with Serenity Birth Studio. Inspired by the work\, Good Moms Have Scary Thoughts by Karen Kleinman\, this group offers a safe\, supportive\, and confidential space for new parents experiencing distressing or unwanted thoughts after having a baby. \nTogether\, we’ll help you:\nUnderstand scary thoughts and learn how to see them for what they are (just thoughts)\nReduce guilt and shame many new moms experience (90% of new parents experience intrusive thoughts!)\nConnect with other parents in a supportive\, judgement-free space\nBuild skills to respond to intrusive thoughts with more confidence\nLeave with a personalized plan to continue moving forward
URL:https://iocdf.org/event/good-moms-have-scary-thoughts-postpartum-intrusive-thoughts-circle/2026-06-15/
LOCATION:4 Alliance Blvd Unit 10\, Barrie\, ON.\, 4 Alliance Blvd\, Barrie\, ON\, L4N 5K4\, Canada
CATEGORIES:Affiliate-hosted
ATTACH;FMTTYPE=image/png:https://iocdf.org/wp-content/uploads/2026/03/1.png
ORGANIZER;CN="OCD North":MAILTO:mlittle@ocdnorth.com
END:VEVENT
BEGIN:VEVENT
DTSTART;TZID=America/New_York:20260622T133000
DTEND;TZID=America/New_York:20260622T150000
DTSTAMP:20260425T162854
CREATED:20260318T170536Z
LAST-MODIFIED:20260318T170536Z
UID:10002351-1782135000-1782140400@iocdf.org
SUMMARY:Good Moms Have Scary Thoughts: Postpartum Intrusive Thoughts Circle
DESCRIPTION:If you’ve ever had thoughts like: “What if I drop the baby?” What if I hurt my baby by accident?” “What kind of mom thinks like this?”\nYou are not alone. You are not dangerous. You are not a bad mom. Join Merrisa Little\, MSW\, RSW\, a new mom and founder of OCD North\, for an 8-week group program created in collaboration with Serenity Birth Studio. Inspired by the work\, Good Moms Have Scary Thoughts by Karen Kleinman\, this group offers a safe\, supportive\, and confidential space for new parents experiencing distressing or unwanted thoughts after having a baby. \nTogether\, we’ll help you:\nUnderstand scary thoughts and learn how to see them for what they are (just thoughts)\nReduce guilt and shame many new moms experience (90% of new parents experience intrusive thoughts!)\nConnect with other parents in a supportive\, judgement-free space\nBuild skills to respond to intrusive thoughts with more confidence\nLeave with a personalized plan to continue moving forward
URL:https://iocdf.org/event/good-moms-have-scary-thoughts-postpartum-intrusive-thoughts-circle/2026-06-22/
LOCATION:4 Alliance Blvd Unit 10\, Barrie\, ON.\, 4 Alliance Blvd\, Barrie\, ON\, L4N 5K4\, Canada
CATEGORIES:Affiliate-hosted
ATTACH;FMTTYPE=image/png:https://iocdf.org/wp-content/uploads/2026/03/1.png
ORGANIZER;CN="OCD North":MAILTO:mlittle@ocdnorth.com
END:VEVENT
BEGIN:VEVENT
DTSTART;TZID=America/New_York:20260629T133000
DTEND;TZID=America/New_York:20260629T150000
DTSTAMP:20260425T162854
CREATED:20260318T170536Z
LAST-MODIFIED:20260318T170536Z
UID:10002352-1782739800-1782745200@iocdf.org
SUMMARY:Good Moms Have Scary Thoughts: Postpartum Intrusive Thoughts Circle
DESCRIPTION:If you’ve ever had thoughts like: “What if I drop the baby?” What if I hurt my baby by accident?” “What kind of mom thinks like this?”\nYou are not alone. You are not dangerous. You are not a bad mom. Join Merrisa Little\, MSW\, RSW\, a new mom and founder of OCD North\, for an 8-week group program created in collaboration with Serenity Birth Studio. Inspired by the work\, Good Moms Have Scary Thoughts by Karen Kleinman\, this group offers a safe\, supportive\, and confidential space for new parents experiencing distressing or unwanted thoughts after having a baby. \nTogether\, we’ll help you:\nUnderstand scary thoughts and learn how to see them for what they are (just thoughts)\nReduce guilt and shame many new moms experience (90% of new parents experience intrusive thoughts!)\nConnect with other parents in a supportive\, judgement-free space\nBuild skills to respond to intrusive thoughts with more confidence\nLeave with a personalized plan to continue moving forward
URL:https://iocdf.org/event/good-moms-have-scary-thoughts-postpartum-intrusive-thoughts-circle/2026-06-29/
LOCATION:4 Alliance Blvd Unit 10\, Barrie\, ON.\, 4 Alliance Blvd\, Barrie\, ON\, L4N 5K4\, Canada
CATEGORIES:Affiliate-hosted
ATTACH;FMTTYPE=image/png:https://iocdf.org/wp-content/uploads/2026/03/1.png
ORGANIZER;CN="OCD North":MAILTO:mlittle@ocdnorth.com
END:VEVENT
END:VCALENDAR