BEGIN:VCALENDAR
VERSION:2.0
PRODID:-//International OCD Foundation - ECPv6.15.17//NONSGML v1.0//EN
CALSCALE:GREGORIAN
METHOD:PUBLISH
X-ORIGINAL-URL:https://iocdf.org
X-WR-CALDESC:Events for International OCD Foundation
REFRESH-INTERVAL;VALUE=DURATION:PT1H
X-Robots-Tag:noindex
X-PUBLISHED-TTL:PT1H
BEGIN:VTIMEZONE
TZID:America/New_York
BEGIN:DAYLIGHT
TZOFFSETFROM:-0500
TZOFFSETTO:-0400
TZNAME:EDT
DTSTART:20250309T070000
END:DAYLIGHT
BEGIN:STANDARD
TZOFFSETFROM:-0400
TZOFFSETTO:-0500
TZNAME:EST
DTSTART:20251102T060000
END:STANDARD
BEGIN:DAYLIGHT
TZOFFSETFROM:-0500
TZOFFSETTO:-0400
TZNAME:EDT
DTSTART:20260308T070000
END:DAYLIGHT
BEGIN:STANDARD
TZOFFSETFROM:-0400
TZOFFSETTO:-0500
TZNAME:EST
DTSTART:20261101T060000
END:STANDARD
BEGIN:DAYLIGHT
TZOFFSETFROM:-0500
TZOFFSETTO:-0400
TZNAME:EDT
DTSTART:20270314T070000
END:DAYLIGHT
BEGIN:STANDARD
TZOFFSETFROM:-0400
TZOFFSETTO:-0500
TZNAME:EST
DTSTART:20271107T060000
END:STANDARD
END:VTIMEZONE
BEGIN:VEVENT
DTSTART;TZID=America/New_York:20260803T080000
DTEND;TZID=America/New_York:20260907T170000
DTSTAMP:20260425T132845
CREATED:20251229T182400Z
LAST-MODIFIED:20251229T182400Z
UID:10002310-1785744000-1788800400@iocdf.org
SUMMARY:Cognitive Behavioral Therapy for Body Dysmorphic Disorder (MGH Online Course - August 2026)
DESCRIPTION:This interactive course is led by experts in research\, assessment\, and treatment of body dysmorphic disorder (BDD). The course trains you to identify the clinical features of BDD and accurately differentiate it from other conditions that present in similar ways. \nTopics include how to: \nAssess and enhance motivation for treatment\nDevelop a personalized cognitive behavioral model for patients with BDD\nApply cognitive-behavioral and acceptance-based skills to treat BDD\nManage common pitfalls in treatment\, such as poor motivation and depression\nApply specific strategies for unique presentations of BDD\, such as cosmetic treatment-seeking
URL:https://iocdf.org/event/cognitive-behavioral-therapy-for-body-dysmorphic-disorder-mgh-online-course-august-2026/
LOCATION:CA
CATEGORIES:Professional Training
END:VEVENT
BEGIN:VEVENT
DTSTART;TZID=America/New_York:20260907T080000
DTEND;TZID=America/New_York:20261005T170000
DTSTAMP:20260425T132845
CREATED:20251229T182328Z
LAST-MODIFIED:20251229T182328Z
UID:10002305-1788768000-1791219600@iocdf.org
SUMMARY:Cognitive Behavioral Therapy for OCD in Children and Adolescents (MGH Online Course - September 2026)
DESCRIPTION:Registration Deadline: September 21\, 2026 \nThis interactive course offers an overview of cognitive behavioral therapy (CBT) for children and adolescents with obsessive-compulsive disorder (OCD). It is led by CBT experts Aude Henin\, PhD\, and Dina Hirshfeld-Becker\, PhD. \nThe course reviews diagnostic criteria for OCD\, the impact of common comorbidities\, the differentiation of OCD from other psychiatric disorders of childhood\, strategies to combat treatment non-adherence\, and much more. The course also focuses on evidence-based CBT interventions such as psychoeducation\, cognitive strategies\, and exposure and response prevention (E/RP).
URL:https://iocdf.org/event/cognitive-behavioral-therapy-for-ocd-in-children-and-adolescents-mgh-online-course-september-2026/
LOCATION:CA
CATEGORIES:Professional Training
END:VEVENT
BEGIN:VEVENT
DTSTART;TZID=America/New_York:20260907T133000
DTEND;TZID=America/New_York:20260907T150000
DTSTAMP:20260425T132845
CREATED:20260318T170536Z
LAST-MODIFIED:20260318T170536Z
UID:10002362-1788787800-1788793200@iocdf.org
SUMMARY:Good Moms Have Scary Thoughts: Postpartum Intrusive Thoughts Circle
DESCRIPTION:If you’ve ever had thoughts like: “What if I drop the baby?” What if I hurt my baby by accident?” “What kind of mom thinks like this?”\nYou are not alone. You are not dangerous. You are not a bad mom. Join Merrisa Little\, MSW\, RSW\, a new mom and founder of OCD North\, for an 8-week group program created in collaboration with Serenity Birth Studio. Inspired by the work\, Good Moms Have Scary Thoughts by Karen Kleinman\, this group offers a safe\, supportive\, and confidential space for new parents experiencing distressing or unwanted thoughts after having a baby. \nTogether\, we’ll help you:\nUnderstand scary thoughts and learn how to see them for what they are (just thoughts)\nReduce guilt and shame many new moms experience (90% of new parents experience intrusive thoughts!)\nConnect with other parents in a supportive\, judgement-free space\nBuild skills to respond to intrusive thoughts with more confidence\nLeave with a personalized plan to continue moving forward
URL:https://iocdf.org/event/good-moms-have-scary-thoughts-postpartum-intrusive-thoughts-circle/2026-09-07/
LOCATION:4 Alliance Blvd Unit 10\, Barrie\, ON.\, 4 Alliance Blvd\, Barrie\, ON\, L4N 5K4\, Canada
CATEGORIES:Affiliate-hosted
ATTACH;FMTTYPE=image/png:https://iocdf.org/wp-content/uploads/2026/03/1.png
ORGANIZER;CN="OCD North":MAILTO:mlittle@ocdnorth.com
END:VEVENT
BEGIN:VEVENT
DTSTART;TZID=America/New_York:20260914T133000
DTEND;TZID=America/New_York:20260914T150000
DTSTAMP:20260425T132845
CREATED:20260318T170536Z
LAST-MODIFIED:20260318T170536Z
UID:10002363-1789392600-1789398000@iocdf.org
SUMMARY:Good Moms Have Scary Thoughts: Postpartum Intrusive Thoughts Circle
DESCRIPTION:If you’ve ever had thoughts like: “What if I drop the baby?” What if I hurt my baby by accident?” “What kind of mom thinks like this?”\nYou are not alone. You are not dangerous. You are not a bad mom. Join Merrisa Little\, MSW\, RSW\, a new mom and founder of OCD North\, for an 8-week group program created in collaboration with Serenity Birth Studio. Inspired by the work\, Good Moms Have Scary Thoughts by Karen Kleinman\, this group offers a safe\, supportive\, and confidential space for new parents experiencing distressing or unwanted thoughts after having a baby. \nTogether\, we’ll help you:\nUnderstand scary thoughts and learn how to see them for what they are (just thoughts)\nReduce guilt and shame many new moms experience (90% of new parents experience intrusive thoughts!)\nConnect with other parents in a supportive\, judgement-free space\nBuild skills to respond to intrusive thoughts with more confidence\nLeave with a personalized plan to continue moving forward
URL:https://iocdf.org/event/good-moms-have-scary-thoughts-postpartum-intrusive-thoughts-circle/2026-09-14/
LOCATION:4 Alliance Blvd Unit 10\, Barrie\, ON.\, 4 Alliance Blvd\, Barrie\, ON\, L4N 5K4\, Canada
CATEGORIES:Affiliate-hosted
ATTACH;FMTTYPE=image/png:https://iocdf.org/wp-content/uploads/2026/03/1.png
ORGANIZER;CN="OCD North":MAILTO:mlittle@ocdnorth.com
END:VEVENT
BEGIN:VEVENT
DTSTART;TZID=America/New_York:20260921T133000
DTEND;TZID=America/New_York:20260921T150000
DTSTAMP:20260425T132845
CREATED:20260318T170536Z
LAST-MODIFIED:20260318T170536Z
UID:10002364-1789997400-1790002800@iocdf.org
SUMMARY:Good Moms Have Scary Thoughts: Postpartum Intrusive Thoughts Circle
DESCRIPTION:If you’ve ever had thoughts like: “What if I drop the baby?” What if I hurt my baby by accident?” “What kind of mom thinks like this?”\nYou are not alone. You are not dangerous. You are not a bad mom. Join Merrisa Little\, MSW\, RSW\, a new mom and founder of OCD North\, for an 8-week group program created in collaboration with Serenity Birth Studio. Inspired by the work\, Good Moms Have Scary Thoughts by Karen Kleinman\, this group offers a safe\, supportive\, and confidential space for new parents experiencing distressing or unwanted thoughts after having a baby. \nTogether\, we’ll help you:\nUnderstand scary thoughts and learn how to see them for what they are (just thoughts)\nReduce guilt and shame many new moms experience (90% of new parents experience intrusive thoughts!)\nConnect with other parents in a supportive\, judgement-free space\nBuild skills to respond to intrusive thoughts with more confidence\nLeave with a personalized plan to continue moving forward
URL:https://iocdf.org/event/good-moms-have-scary-thoughts-postpartum-intrusive-thoughts-circle/2026-09-21/
LOCATION:4 Alliance Blvd Unit 10\, Barrie\, ON.\, 4 Alliance Blvd\, Barrie\, ON\, L4N 5K4\, Canada
CATEGORIES:Affiliate-hosted
ATTACH;FMTTYPE=image/png:https://iocdf.org/wp-content/uploads/2026/03/1.png
ORGANIZER;CN="OCD North":MAILTO:mlittle@ocdnorth.com
END:VEVENT
BEGIN:VEVENT
DTSTART;TZID=America/New_York:20260928T133000
DTEND;TZID=America/New_York:20260928T150000
DTSTAMP:20260425T132845
CREATED:20260318T170536Z
LAST-MODIFIED:20260318T170536Z
UID:10002365-1790602200-1790607600@iocdf.org
SUMMARY:Good Moms Have Scary Thoughts: Postpartum Intrusive Thoughts Circle
DESCRIPTION:If you’ve ever had thoughts like: “What if I drop the baby?” What if I hurt my baby by accident?” “What kind of mom thinks like this?”\nYou are not alone. You are not dangerous. You are not a bad mom. Join Merrisa Little\, MSW\, RSW\, a new mom and founder of OCD North\, for an 8-week group program created in collaboration with Serenity Birth Studio. Inspired by the work\, Good Moms Have Scary Thoughts by Karen Kleinman\, this group offers a safe\, supportive\, and confidential space for new parents experiencing distressing or unwanted thoughts after having a baby. \nTogether\, we’ll help you:\nUnderstand scary thoughts and learn how to see them for what they are (just thoughts)\nReduce guilt and shame many new moms experience (90% of new parents experience intrusive thoughts!)\nConnect with other parents in a supportive\, judgement-free space\nBuild skills to respond to intrusive thoughts with more confidence\nLeave with a personalized plan to continue moving forward
URL:https://iocdf.org/event/good-moms-have-scary-thoughts-postpartum-intrusive-thoughts-circle/2026-09-28/
LOCATION:4 Alliance Blvd Unit 10\, Barrie\, ON.\, 4 Alliance Blvd\, Barrie\, ON\, L4N 5K4\, Canada
CATEGORIES:Affiliate-hosted
ATTACH;FMTTYPE=image/png:https://iocdf.org/wp-content/uploads/2026/03/1.png
ORGANIZER;CN="OCD North":MAILTO:mlittle@ocdnorth.com
END:VEVENT
END:VCALENDAR