BEGIN:VCALENDAR
VERSION:2.0
PRODID:-//International OCD Foundation - ECPv6.15.17//NONSGML v1.0//EN
CALSCALE:GREGORIAN
METHOD:PUBLISH
X-WR-CALNAME:International OCD Foundation
X-ORIGINAL-URL:https://iocdf.org
X-WR-CALDESC:Events for International OCD Foundation
REFRESH-INTERVAL;VALUE=DURATION:PT1H
X-Robots-Tag:noindex
X-PUBLISHED-TTL:PT1H
BEGIN:VTIMEZONE
TZID:America/New_York
BEGIN:DAYLIGHT
TZOFFSETFROM:-0500
TZOFFSETTO:-0400
TZNAME:EDT
DTSTART:20250309T070000
END:DAYLIGHT
BEGIN:STANDARD
TZOFFSETFROM:-0400
TZOFFSETTO:-0500
TZNAME:EST
DTSTART:20251102T060000
END:STANDARD
BEGIN:DAYLIGHT
TZOFFSETFROM:-0500
TZOFFSETTO:-0400
TZNAME:EDT
DTSTART:20260308T070000
END:DAYLIGHT
BEGIN:STANDARD
TZOFFSETFROM:-0400
TZOFFSETTO:-0500
TZNAME:EST
DTSTART:20261101T060000
END:STANDARD
BEGIN:DAYLIGHT
TZOFFSETFROM:-0500
TZOFFSETTO:-0400
TZNAME:EDT
DTSTART:20270314T070000
END:DAYLIGHT
BEGIN:STANDARD
TZOFFSETFROM:-0400
TZOFFSETTO:-0500
TZNAME:EST
DTSTART:20271107T060000
END:STANDARD
END:VTIMEZONE
BEGIN:VEVENT
DTSTART;TZID=America/New_York:20261005T080000
DTEND;TZID=America/New_York:20261102T170000
DTSTAMP:20260425T163226
CREATED:20251229T182236Z
LAST-MODIFIED:20251229T182236Z
UID:10002302-1791187200-1793638800@iocdf.org
SUMMARY:Cognitive Behavioral Therapy for Obsessive Compulsive Disorder (MGH Online Course - October 2026)
DESCRIPTION:OCD is the fourth most common mental illness. Patients often report high functional impairment and poor quality of life. OCD can be a challenge to properly diagnose. Other conditions present in similar ways\, such as impulse control disorders. In order to help patients find wellness\, it is essential to accurately differentiate OCD.\nThis online course helps you understand and identify clinical features of Obsessive Compulsive Disorder (OCD). It is led by renowned OCD expert and Harvard Medical School Professor Sabine Wilhelm\, PhD. This course focuses on how to use effective assessment and treatment strategies for OCD in your practice
URL:https://iocdf.org/event/cognitive-behavioral-therapy-for-obsessive-compulsive-disorder-mgh-online-course-october-2026/
LOCATION:CA
CATEGORIES:Professional Training
END:VEVENT
BEGIN:VEVENT
DTSTART;TZID=America/New_York:20261102T133000
DTEND;TZID=America/New_York:20261102T150000
DTSTAMP:20260425T163226
CREATED:20260318T170536Z
LAST-MODIFIED:20260318T170536Z
UID:10002370-1793626200-1793631600@iocdf.org
SUMMARY:Good Moms Have Scary Thoughts: Postpartum Intrusive Thoughts Circle
DESCRIPTION:If you’ve ever had thoughts like: “What if I drop the baby?” What if I hurt my baby by accident?” “What kind of mom thinks like this?”\nYou are not alone. You are not dangerous. You are not a bad mom. Join Merrisa Little\, MSW\, RSW\, a new mom and founder of OCD North\, for an 8-week group program created in collaboration with Serenity Birth Studio. Inspired by the work\, Good Moms Have Scary Thoughts by Karen Kleinman\, this group offers a safe\, supportive\, and confidential space for new parents experiencing distressing or unwanted thoughts after having a baby. \nTogether\, we’ll help you:\nUnderstand scary thoughts and learn how to see them for what they are (just thoughts)\nReduce guilt and shame many new moms experience (90% of new parents experience intrusive thoughts!)\nConnect with other parents in a supportive\, judgement-free space\nBuild skills to respond to intrusive thoughts with more confidence\nLeave with a personalized plan to continue moving forward
URL:https://iocdf.org/event/good-moms-have-scary-thoughts-postpartum-intrusive-thoughts-circle/2026-11-02/
LOCATION:4 Alliance Blvd Unit 10\, Barrie\, ON.\, 4 Alliance Blvd\, Barrie\, ON\, L4N 5K4\, Canada
CATEGORIES:Affiliate-hosted
ATTACH;FMTTYPE=image/png:https://iocdf.org/wp-content/uploads/2026/03/1.png
ORGANIZER;CN="OCD North":MAILTO:mlittle@ocdnorth.com
END:VEVENT
BEGIN:VEVENT
DTSTART;TZID=America/New_York:20261109T133000
DTEND;TZID=America/New_York:20261109T150000
DTSTAMP:20260425T163226
CREATED:20260318T170536Z
LAST-MODIFIED:20260318T170536Z
UID:10002371-1794231000-1794236400@iocdf.org
SUMMARY:Good Moms Have Scary Thoughts: Postpartum Intrusive Thoughts Circle
DESCRIPTION:If you’ve ever had thoughts like: “What if I drop the baby?” What if I hurt my baby by accident?” “What kind of mom thinks like this?”\nYou are not alone. You are not dangerous. You are not a bad mom. Join Merrisa Little\, MSW\, RSW\, a new mom and founder of OCD North\, for an 8-week group program created in collaboration with Serenity Birth Studio. Inspired by the work\, Good Moms Have Scary Thoughts by Karen Kleinman\, this group offers a safe\, supportive\, and confidential space for new parents experiencing distressing or unwanted thoughts after having a baby. \nTogether\, we’ll help you:\nUnderstand scary thoughts and learn how to see them for what they are (just thoughts)\nReduce guilt and shame many new moms experience (90% of new parents experience intrusive thoughts!)\nConnect with other parents in a supportive\, judgement-free space\nBuild skills to respond to intrusive thoughts with more confidence\nLeave with a personalized plan to continue moving forward
URL:https://iocdf.org/event/good-moms-have-scary-thoughts-postpartum-intrusive-thoughts-circle/2026-11-09/
LOCATION:4 Alliance Blvd Unit 10\, Barrie\, ON.\, 4 Alliance Blvd\, Barrie\, ON\, L4N 5K4\, Canada
CATEGORIES:Affiliate-hosted
ATTACH;FMTTYPE=image/png:https://iocdf.org/wp-content/uploads/2026/03/1.png
ORGANIZER;CN="OCD North":MAILTO:mlittle@ocdnorth.com
END:VEVENT
BEGIN:VEVENT
DTSTART;TZID=America/New_York:20261116T133000
DTEND;TZID=America/New_York:20261116T150000
DTSTAMP:20260425T163226
CREATED:20260318T170536Z
LAST-MODIFIED:20260318T170536Z
UID:10002372-1794835800-1794841200@iocdf.org
SUMMARY:Good Moms Have Scary Thoughts: Postpartum Intrusive Thoughts Circle
DESCRIPTION:If you’ve ever had thoughts like: “What if I drop the baby?” What if I hurt my baby by accident?” “What kind of mom thinks like this?”\nYou are not alone. You are not dangerous. You are not a bad mom. Join Merrisa Little\, MSW\, RSW\, a new mom and founder of OCD North\, for an 8-week group program created in collaboration with Serenity Birth Studio. Inspired by the work\, Good Moms Have Scary Thoughts by Karen Kleinman\, this group offers a safe\, supportive\, and confidential space for new parents experiencing distressing or unwanted thoughts after having a baby. \nTogether\, we’ll help you:\nUnderstand scary thoughts and learn how to see them for what they are (just thoughts)\nReduce guilt and shame many new moms experience (90% of new parents experience intrusive thoughts!)\nConnect with other parents in a supportive\, judgement-free space\nBuild skills to respond to intrusive thoughts with more confidence\nLeave with a personalized plan to continue moving forward
URL:https://iocdf.org/event/good-moms-have-scary-thoughts-postpartum-intrusive-thoughts-circle/2026-11-16/
LOCATION:4 Alliance Blvd Unit 10\, Barrie\, ON.\, 4 Alliance Blvd\, Barrie\, ON\, L4N 5K4\, Canada
CATEGORIES:Affiliate-hosted
ATTACH;FMTTYPE=image/png:https://iocdf.org/wp-content/uploads/2026/03/1.png
ORGANIZER;CN="OCD North":MAILTO:mlittle@ocdnorth.com
END:VEVENT
BEGIN:VEVENT
DTSTART;TZID=America/New_York:20261123T133000
DTEND;TZID=America/New_York:20261123T150000
DTSTAMP:20260425T163226
CREATED:20260318T170536Z
LAST-MODIFIED:20260318T170536Z
UID:10002373-1795440600-1795446000@iocdf.org
SUMMARY:Good Moms Have Scary Thoughts: Postpartum Intrusive Thoughts Circle
DESCRIPTION:If you’ve ever had thoughts like: “What if I drop the baby?” What if I hurt my baby by accident?” “What kind of mom thinks like this?”\nYou are not alone. You are not dangerous. You are not a bad mom. Join Merrisa Little\, MSW\, RSW\, a new mom and founder of OCD North\, for an 8-week group program created in collaboration with Serenity Birth Studio. Inspired by the work\, Good Moms Have Scary Thoughts by Karen Kleinman\, this group offers a safe\, supportive\, and confidential space for new parents experiencing distressing or unwanted thoughts after having a baby. \nTogether\, we’ll help you:\nUnderstand scary thoughts and learn how to see them for what they are (just thoughts)\nReduce guilt and shame many new moms experience (90% of new parents experience intrusive thoughts!)\nConnect with other parents in a supportive\, judgement-free space\nBuild skills to respond to intrusive thoughts with more confidence\nLeave with a personalized plan to continue moving forward
URL:https://iocdf.org/event/good-moms-have-scary-thoughts-postpartum-intrusive-thoughts-circle/2026-11-23/
LOCATION:4 Alliance Blvd Unit 10\, Barrie\, ON.\, 4 Alliance Blvd\, Barrie\, ON\, L4N 5K4\, Canada
CATEGORIES:Affiliate-hosted
ATTACH;FMTTYPE=image/png:https://iocdf.org/wp-content/uploads/2026/03/1.png
ORGANIZER;CN="OCD North":MAILTO:mlittle@ocdnorth.com
END:VEVENT
BEGIN:VEVENT
DTSTART;TZID=America/New_York:20261130T133000
DTEND;TZID=America/New_York:20261130T150000
DTSTAMP:20260425T163226
CREATED:20260318T170536Z
LAST-MODIFIED:20260318T170536Z
UID:10002374-1796045400-1796050800@iocdf.org
SUMMARY:Good Moms Have Scary Thoughts: Postpartum Intrusive Thoughts Circle
DESCRIPTION:If you’ve ever had thoughts like: “What if I drop the baby?” What if I hurt my baby by accident?” “What kind of mom thinks like this?”\nYou are not alone. You are not dangerous. You are not a bad mom. Join Merrisa Little\, MSW\, RSW\, a new mom and founder of OCD North\, for an 8-week group program created in collaboration with Serenity Birth Studio. Inspired by the work\, Good Moms Have Scary Thoughts by Karen Kleinman\, this group offers a safe\, supportive\, and confidential space for new parents experiencing distressing or unwanted thoughts after having a baby. \nTogether\, we’ll help you:\nUnderstand scary thoughts and learn how to see them for what they are (just thoughts)\nReduce guilt and shame many new moms experience (90% of new parents experience intrusive thoughts!)\nConnect with other parents in a supportive\, judgement-free space\nBuild skills to respond to intrusive thoughts with more confidence\nLeave with a personalized plan to continue moving forward
URL:https://iocdf.org/event/good-moms-have-scary-thoughts-postpartum-intrusive-thoughts-circle/2026-11-30/
LOCATION:4 Alliance Blvd Unit 10\, Barrie\, ON.\, 4 Alliance Blvd\, Barrie\, ON\, L4N 5K4\, Canada
CATEGORIES:Affiliate-hosted
ATTACH;FMTTYPE=image/png:https://iocdf.org/wp-content/uploads/2026/03/1.png
ORGANIZER;CN="OCD North":MAILTO:mlittle@ocdnorth.com
END:VEVENT
END:VCALENDAR